Workbook

Sheet duomenys
A3: Varžybų pavadinimas | B3: Lietuvos mokinių ls aviamodelių varžybos „Lietuvos taurė 2026“
A4: Vieta | B4: Paluknys
A5: Data
A6: F-1-A, F-1-B, F-1-C | B6: 46165
A7: F-1-G, F-1-H, HLG | B7: 46165
A8: Vyr. teisėjas | B8: Marius Bliujus
A9: Varžybų sekretorius | B9: Virginijus Ivančikas

Sheet F1G
A1: Laisvo skridimo aviamodelių varžybos
A2: =duomenys!B3 -> Lietuvos mokinių ls aviamodelių varžybos „Lietuvos taurė 2026“
D4: F-1-G rezultatai
A6: Nr. | B6: Dalyvis | C6: Komanda | D6: 1 | E6: 2 | F6: 3 | G6: 4 | H6: 5 | I6: 6 | J6: 7 | K6: Rezultatas | L6: Per 1000 | M6: Klubinės
A7: 1 | B7: Ąžuolas Bliujus | C7: Vilnius | D7: 105 | E7: 61 | F7: 65 | G7: 42 | H7: 120 | K7: =0+SUM(D7:J7) -> 393 | L7: =1000*(SUM(D7:H7))/(SUM($D$7:$H$7)) -> 1000 | M7: 1000
A8: 2 | B8: Dovydas Bliujus | C8: Vilnius | D8: 120 | E8: 84 | F8: 55 | G8: 60 | H8: 55 | K8: =0+SUM(D8:J8) -> 374 | L8: =1000*(SUM(D8:H8))/(SUM($D$7:$H$7)) -> 951.65394
A9: 3 | B9: Rokas Ivančikas | C9: Varėna | D9: 46 | E9: 39 | F9: 43 | G9: 108 | H9: 5 | K9: =0+SUM(D9:J9) -> 241 | L9: =1000*(SUM(D9:H9))/(SUM($D$7:$H$7)) -> 613.23155
B11: Parašai: | C11: =duomenys!B8 -> Marius Bliujus | J11: Data: | K11: =duomenys!B7 -> 46165
C12: =duomenys!B9 -> Virginijus Ivančikas | K12: =duomenys!B4 -> Paluknys

Sheet F1H
A1: Laisvo skridimo aviamodelių varžybos
A2: =duomenys!B3 -> Lietuvos mokinių ls aviamodelių varžybos „Lietuvos taurė 2026“
D4: F-1-H rezultatai
A6: Nr. | B6: Dalyvis | C6: Komanda | D6: 1 | E6: 2 | F6: 3 | G6: 4 | H6: 5 | I6: 6 | J6: 7 | K6: Rezultatas | L6: Per 1000 | M6: Klubinės
A7: 1 | B7: Mantas Užgirys | C7: Varėna | D7: 120 | E7: 95 | F7: 60 | G7: 50 | H7: 120 | K7: =0+SUM(D7:J7) -> 445 | L7: =1000*(SUM(D7:H7))/(SUM($D$7:$H$7)) -> 1000 | M7: 1000
A8: 2 | B8: Matas Bušniauskas | C8: Varėna | D8: 45 | E8: 101 | F8: 120 | G8: 32 | H8: 102 | K8: =0+SUM(D8:J8) -> 400 | L8: =1000*(SUM(D8:H8))/(SUM($D$7:$H$7)) -> 898.8764
A9: 3 | B9: Ignas Rulis | C9: Varėna | D9: 56 | E9: 85 | F9: 86 | G9: 74 | H9: 22 | K9: =0+SUM(D9:J9) -> 323 | L9: =1000*(SUM(D9:H9))/(SUM($D$7:$H$7)) -> 725.8427
A10: 4 | B10: Vaiva Ivančikaitė | C10: Varėna | D10: 0 | E10: 42 | F10: 99 | G10: 102 | H10: 50 | K10: =0+SUM(D10:J10) -> 293 | L10: =1000*(SUM(D10:H10))/(SUM($D$7:$H$7)) -> 658.42697
K11: =0+SUM(D11:J11) -> 0 | L11: =1000*(SUM(D11:H11))/(SUM($D$7:$H$7)) -> 0
B14: Parašai: | C14: =duomenys!B8 -> Marius Bliujus | J14: Data: | K14: =duomenys!B7 -> 46165
C15: =duomenys!B9 -> Virginijus Ivančikas | K15: =duomenys!B4 -> Paluknys

Sheet HLG
A1: Laisvo skridimo aviamodelių varžybos
A2: =duomenys!B3 -> Lietuvos mokinių ls aviamodelių varžybos „Lietuvos taurė 2026“
D4: H-L-G rezultatai
A6: Nr. | B6: Dalyvis | C6: Komanda | D6: 1 | E6: 2 | F6: 3 | G6: 4 | H6: 5 | I6: 6 | J6: 7 | K6: Rezultatas | L6: Per 1000 | M6: Klubinės
A7: 1 | B7: Benas Krasovskis | C7: Paluknys | D7: 15 | E7: 13 | F7: 23 | G7: 29 | H7: 25 | K7: =0+SUM(D7:J7) -> 105 | L7: =1000*(SUM(D7:H7))/(SUM($D$7:$H$7)) -> 1000 | M7: 1000
A8: 2 | B8: Jomantas Kviklys | C8: Utena | D8: 12 | E8: 14 | F8: 20 | G8: 15 | H8: 21 | K8: =0+SUM(D8:J8) -> 82 | L8: =1000*(SUM(D8:H8))/(SUM($D$7:$H$7)) -> 780.95238
A9: 3 | B9: Vaiva Ivančikaitė - 12 | C9: Varėna | D9: 9 | E9: 13 | F9: 15 | G9: 10 | H9: 30 | K9: =0+SUM(D9:J9) -> 77 | L9: =1000*(SUM(D9:H9))/(SUM($D$7:$H$7)) -> 733.33333
A10: 4 | B10: Matas Bušniauskas - 12 | C10: Varėna | D10: 4 | E10: 15 | F10: 15 | G10: 30 | H10: 7 | K10: =0+SUM(D10:J10) -> 71 | L10: =1000*(SUM(D10:H10))/(SUM($D$7:$H$7)) -> 676.19048
A11: 5 | B11: Mantas Užgirys - 12 | C11: Varėna | D11: 10 | E11: 18 | F11: 11 | G11: 10 | H11: 11 | K11: =0+SUM(D11:J11) -> 60 | L11: =1000*(SUM(D11:H11))/(SUM($D$7:$H$7)) -> 571.42857
A12: 6 | B12: Benas Leimontas | C12: Utena | D12: 4 | E12: 8 | F12: 12 | G12: 14 | H12: 19 | K12: =0+SUM(D12:J12) -> 57 | L12: =1000*(SUM(D12:H12))/(SUM($D$7:$H$7)) -> 542.85714
A13: 7 | B13: Domas Genevičius | C13: Utena | D13: 5 | E13: 2 | F13: 3 | G13: 18 | H13: 16 | K13: =0+SUM(D13:J13) -> 44 | L13: =1000*(SUM(D13:H13))/(SUM($D$7:$H$7)) -> 419.04762
A14: 8 | B14: Ignas Varanavičius - 12 | C14: Perloja | D14: 3 | E14: 12 | F14: 4 | G14: 11 | H14: 8 | K14: =0+SUM(D14:J14) -> 38 | L14: =1000*(SUM(D14:H14))/(SUM($D$7:$H$7)) -> 361.90476
A15: 9 | B15: Ignas Rulis - 12 | C15: Varėna | D15: 7 | E15: 2 | F15: 8 | G15: 3 | H15: 16 | K15: =0+SUM(D15:J15) -> 36 | L15: =1000*(SUM(D15:H15))/(SUM($D$7:$H$7)) -> 342.85714
A16: 10 | B16: Pijus Eismantas - 12 | C16: Utena | D16: 3 | E16: 10 | F16: 4 | G16: 9 | H16: 3 | K16: =0+SUM(D16:J16) -> 29 | L16: =1000*(SUM(D16:H16))/(SUM($D$7:$H$7)) -> 276.19048
A17: 11 | B17: Justas Petraitis | C17: Utena | D17: 3 | E17: 3 | F17: 6 | G17: 10 | H17: 6 | K17: =0+SUM(D17:J17) -> 28 | L17: =1000*(SUM(D17:H17))/(SUM($D$7:$H$7)) -> 266.66667
A18: 12 | B18: Lev Rukštelis | C18: Utena | D18: 3 | E18: 3 | F18: 5 | G18: 6 | H18: 3 | K18: =0+SUM(D18:J18) -> 20 | L18: =1000*(SUM(D18:H18))/(SUM($D$7:$H$7)) -> 190.47619
A19: 13 | B19: Pavel Rukštelis - 12 | C19: Utena | D19: 3 | E19: 3 | F19: 4 | G19: 2 | H19: 2 | K19: =0+SUM(D19:J19) -> 14 | L19: =1000*(SUM(D19:H19))/(SUM($D$7:$H$7)) -> 133.33333
K20: =0+SUM(D20:J20) -> 0 | L20: =1000*(SUM(D20:H20))/(SUM($D$7:$H$7)) -> 0
B22: Parašai: | C22: =duomenys!B8 -> Marius Bliujus | J22: Data: | K22: =duomenys!B7 -> 46165
C23: =duomenys!B9 -> Virginijus Ivančikas | K23: =duomenys!B4 -> Paluknys
